BEGIN:VCALENDAR
VERSION:2.0
PRODID:-//Plone.org//NONSGML plone.app.event//EN
X-WR-TIMEZONE:America/Sao_Paulo
BEGIN:VEVENT
SUMMARY:Drone e sua aplicação em estudos geográficos
DTSTART;VALUE=DATE:20220405
DTEND;VALUE=DATE:20220408
DTSTAMP;VALUE=DATE-TIME:20260423T011515Z
UID:375b1d64df0d48e4880dea5c21f21550
CONTACT:GEMA\, 44 3011-4327\, sec-gema@uem.br
CREATED;VALUE=DATE-TIME:20220325T133716Z
LAST-MODIFIED;VALUE=DATE-TIME:20220325T134724Z
LOCATION:UEM
URL:https://sites.uem.br/gema/events/drone-e-sua-aplicacao-em-estudos-geog
 raficos
END:VEVENT
END:VCALENDAR
