BEGIN:VCALENDAR
PRODID:-//AT Content Types//AT Event//EN
VERSION:1.0
BEGIN:VEVENT
DTSTART:20201208T110000Z
DTEND:20201211T185500Z
DCREATED:20200609T195425Z
UID:ATEvent-9e36675b955948128d924ca1e72c1ed2
SEQUENCE:0
LAST-MODIFIED:20200609T195432Z
SUMMARY:48º Encontro Nacional de Economia Anpec Nacional
LOCATION:Basília
PRIORITY:3
TRANSP:0
END:VEVENT
END:VCALENDAR
