BEGIN:VCALENDAR
PRODID:-//AT Content Types//AT Event//EN
VERSION:1.0
BEGIN:VEVENT
DTSTART:20211206T121500Z
DTEND:20211210T201500Z
DCREATED:20210513T131236Z
UID:ATEvent-ab9c491c3bab4afc9de1e9056fedf6cd
SEQUENCE:0
LAST-MODIFIED:20210513T131257Z
SUMMARY:49º Encontro Nacional de Economia
PRIORITY:3
TRANSP:0
END:VEVENT
END:VCALENDAR
