BEGIN:VCALENDAR
PRODID:-//AT Content Types//AT Event//EN
VERSION:2.0
METHOD:PUBLISH
BEGIN:VEVENT
DTSTAMP:20260422T043906Z
CREATED:20220610T191645Z
UID:ATEvent-b8899cba831d4634a90ce30c7ac9959b
LAST-MODIFIED:20220610T191651Z
SUMMARY:50º Encontro Nacional de Economia
DTSTART:20221206T181500Z
DTEND:20221209T181500Z
LOCATION:Fortaleza
URL:https://en.anpec.org.br/
CLASS:PUBLIC
END:VEVENT
END:VCALENDAR
