BEGIN:VCALENDAR
PRODID:-//AT Content Types//AT Event//EN
VERSION:1.0
BEGIN:VEVENT
DTSTART:20200809T104000Z
DTEND:20200813T214000Z
DCREATED:20200220T194016Z
UID:ATEvent-a9a60133ab7644ee850566b108dc879d
SEQUENCE:0
LAST-MODIFIED:20200220T194051Z
SUMMARY:58º Congresso da Sober
LOCATION:Foz do Iguaçu
PRIORITY:3
TRANSP:0
END:VEVENT
END:VCALENDAR
