BEGIN:VCALENDAR
PRODID:-//AT Content Types//AT Event//EN
VERSION:1.0
BEGIN:VEVENT
DTSTART:20210308T165500Z
DTEND:20210418T165500Z
DCREATED:20210412T165718Z
UID:ATEvent-4b0e0049c9de4160b3804997e72d8fe3
SEQUENCE:0
LAST-MODIFIED:20210412T165724Z
SUMMARY:59º SOBER - Submissões
DESCRIPTION:O 59º Congresso da Sociedade Brasileira de Economia\, Adm
 inistração e Sociologia Rural (SOBER) será realizado\, com muita ho
 nra\, com o 6º Encontro Brasileiro de Pesquisadores em Cooperativismo
  (EBPC)\, entre os dias 02 a 06 de agosto de 2021. O tema geral desta 
 edição será “Ações coletivas e resiliência: inovações polít
 icas\, socioeconômicas e ambientais”.\n\nCom as incertezas da pande
 mia e a demora na vacinação\, as duas instituições organizadoras\,
  SOBER e a OCB (Organização das Cooperativas Brasileiras)\, decidira
 m pelo evento virtual\, procurando preservar\, em primeiro lugar\, a s
 aúde dos congressistas.
PRIORITY:3
TRANSP:0
END:VEVENT
END:VCALENDAR
