BEGIN:VCALENDAR
PRODID:-//AT Content Types//AT Event//EN
VERSION:1.0
BEGIN:VEVENT
DTSTART:20210802T165000Z
DTEND:20210806T165000Z
DCREATED:20210412T165537Z
UID:ATEvent-7caa11dadb174ddaab27dd0d5596d193
SEQUENCE:0
LAST-MODIFIED:20210412T165736Z
SUMMARY:59º SOBER
DESCRIPTION:O 59º Congresso da Sociedade Brasileira de Economia\, Adm
 inistração e Sociologia Rural (SOBER) será realizado\, com muita ho
 nra\, com o 6º Encontro Brasileiro de Pesquisadores em Cooperativismo
  (EBPC)\, entre os dias 02 a 06 de agosto de 2021. O tema geral desta 
 edição será “Ações coletivas e resiliência: inovações polít
 icas\, socioeconômicas e ambientais”.
PRIORITY:3
TRANSP:0
END:VEVENT
END:VCALENDAR
