BEGIN:VCALENDAR
PRODID:-//AT Content Types//AT Event//EN
VERSION:2.0
METHOD:PUBLISH
BEGIN:VEVENT
DTSTAMP:20260422T044245Z
CREATED:20200528T121125Z
UID:ATEvent-f99eea334ebe4a628d40115c17d4a505
LAST-MODIFIED:20200528T121138Z
SUMMARY:67th North American Meetings of the Regional Science Association International
DTSTART:20201111T101000Z
DTEND:20201114T191000Z
DESCRIPTION:Call for papers
LOCATION:San Diego\, Califórnia
URL:http://www.narsc.org/
CLASS:PUBLIC
END:VEVENT
END:VCALENDAR
