BEGIN:VCALENDAR
PRODID:-//AT Content Types//AT Event//EN
VERSION:1.0
BEGIN:VEVENT
DTSTART:20201029T115000Z
DTEND:20201030T115000Z
DCREATED:20200714T125050Z
UID:ATEvent-72735e5111aa4089af0a3c0f2d2c93ed
SEQUENCE:0
LAST-MODIFIED:20200714T125057Z
SUMMARY:Anpec Sul
LOCATION:Porto Alegre
PRIORITY:3
TRANSP:0
END:VEVENT
END:VCALENDAR
