BEGIN:VCALENDAR
PRODID:-//AT Content Types//AT Event//EN
VERSION:2.0
METHOD:PUBLISH
BEGIN:VEVENT
DTSTAMP:20260422T064540Z
CREATED:20200609T195214Z
UID:ATEvent-b5fde74da81f4d8da3e6ceda5f80b1a1
LAST-MODIFIED:20200609T195222Z
SUMMARY:Submissão Anpec Nacional 2020
DTSTART:20200609T195000Z
DTEND:20200719T025000Z
DESCRIPTION:O 48º Encontro Nacional de Economia será realizado na Un
 iversidade Católica de Brasília\, em Brasília/DF\, no período de 0
 8 a 11/12/2020.
LOCATION:Brasília
URL:https://en.anpec.org.br/submissions.php
CLASS:PUBLIC
END:VEVENT
END:VCALENDAR
