BEGIN:VCALENDAR
PRODID:-//AT Content Types//AT Event//EN
VERSION:2.0
METHOD:PUBLISH
BEGIN:VEVENT
DTSTAMP:20260422T043803Z
CREATED:20200220T194531Z
UID:ATEvent-0a742a87c9114b8f8c233c49fe4e9b8b
LAST-MODIFIED:20200220T194751Z
SUMMARY:SUBMISSÕES - 58º Congresso da Sober
DTSTART:20200220T194500Z
DTEND:20200406T025500Z
LOCATION:Foz do Iguaçu
URL:https://www.even3.com.br/sober2020/
CLASS:PUBLIC
END:VEVENT
END:VCALENDAR
