BEGIN:VCALENDAR
PRODID:-//AT Content Types//AT Event//EN
VERSION:2.0
METHOD:PUBLISH
BEGIN:VEVENT
DTSTAMP:20260422T064305Z
CREATED:20210513T131108Z
UID:ATEvent-0e7388d214454f0f902cd20cf456d612
LAST-MODIFIED:20210513T131119Z
SUMMARY:Submissões Anpec Nacional 2021
DTSTART:20210513T131000Z
DTEND:20210719T021000Z
URL:https://en.anpec.org.br/submissions.php
CLASS:PUBLIC
END:VEVENT
END:VCALENDAR
