BEGIN:VCALENDAR
PRODID:-//AT Content Types//AT Event//EN
VERSION:2.0
METHOD:PUBLISH
BEGIN:VEVENT
DTSTAMP:20260422T064306Z
CREATED:20210525T122226Z
UID:ATEvent-3defeb4836454e9d91e3bc5d23dcecf2
LAST-MODIFIED:20210525T122233Z
SUMMARY:Submissões Anpec Sul 2021
DTSTART:20210525T122000Z
DTEND:20210824T025500Z
DESCRIPTION:A ANPEC\, em parceria com o Programa de Pós-Graduação e
 m Economia\, Universidade Federal De Santa Catarina\, promoverá o XXI
 V Encontro de Economia da Região Sul – ANPEC SUL 2021. O evento ser
 á realizado nos dias 04 e 05 de novembro de 2021\, no formato online.
 
LOCATION:Florianopolis
URL:http://www.anpec.org.br/novosite/br/xxiv-encontro-de-economia-da-regiao-sul
CLASS:PUBLIC
END:VEVENT
END:VCALENDAR
