BEGIN:VCALENDAR
PRODID:-//AT Content Types//AT Event//EN
VERSION:2.0
METHOD:PUBLISH
BEGIN:VEVENT
DTSTAMP:20260422T043655Z
CREATED:20200714T124558Z
UID:ATEvent-5039568cb0bb4acf90ada2c5315b74a6
LAST-MODIFIED:20200714T124750Z
SUMMARY:Submissões Anpec Sul
DTSTART:20200714T123000Z
DTEND:20200821T123000Z
LOCATION:Porto Alegre
URL:http://www.anpec.org.br/novosite/br/xxiii-encontro-de-economia-da-regiao-sul
CLASS:PUBLIC
END:VEVENT
END:VCALENDAR
