BEGIN:VCALENDAR
PRODID:-//AT Content Types//AT Event//EN
VERSION:2.0
METHOD:PUBLISH
BEGIN:VEVENT
DTSTAMP:20260422T045316Z
CREATED:20210208T122419Z
UID:ATEvent-3e830c779be54b5cb79e53502212f699
LAST-MODIFIED:20210208T122427Z
SUMMARY:Submissões XXI Encontro Brasileiro de Finanças
DTSTART:20210715T112000Z
DTEND:20210716T222000Z
LOCATION:Online
CONTACT:secretaria@sbfin.org.br
URL:http://www.sbfin.org.br
CLASS:PUBLIC
END:VEVENT
END:VCALENDAR
