BEGIN:VCALENDAR
PRODID:-//AT Content Types//AT Event//EN
VERSION:1.0
BEGIN:VEVENT
DTSTART:20220429T125000Z
DTEND:20220624T125000Z
DCREATED:20220429T125130Z
UID:ATEvent-6d7b475dce464168a375467ffb0755d7
SEQUENCE:0
LAST-MODIFIED:20220429T125136Z
SUMMARY:Submissões - XXV Anpec Sul
LOCATION:PUC/RS
PRIORITY:3
TRANSP:0
END:VEVENT
END:VCALENDAR
