BEGIN:VCALENDAR
PRODID:-//AT Content Types//AT Event//EN
VERSION:1.0
BEGIN:VEVENT
DTSTART:20221019T115500Z
DTEND:20221028T115500Z
DCREATED:20220328T125455Z
UID:ATEvent-d6cc72fd89614240918e45fad5f1f9fb
SEQUENCE:0
LAST-MODIFIED:20220328T125637Z
SUMMARY:XX Enaber
LOCATION:Salvador - BA
PRIORITY:3
TRANSP:0
END:VEVENT
END:VCALENDAR
