BEGIN:VCALENDAR
PRODID:-//AT Content Types//AT Event//EN
VERSION:1.0
BEGIN:VEVENT
DTSTART:20211104T100000Z
DTEND:20211105T210000Z
DCREATED:20210525T122558Z
UID:ATEvent-a58d265ac9e9419693666756ea893871
SEQUENCE:0
LAST-MODIFIED:20210525T122613Z
SUMMARY:XXIV Encontro de Economia da Região Sul - Anpec Sul
LOCATION:Florianópolis
PRIORITY:3
TRANSP:0
END:VEVENT
END:VCALENDAR
