BEGIN:VCALENDAR
PRODID:-//AT Content Types//AT Event//EN
VERSION:2.0
METHOD:PUBLISH
BEGIN:VEVENT
DTSTAMP:20260422T043654Z
CREATED:20220429T124939Z
UID:ATEvent-ebbd41d580864e5c897d9ce5759aee01
LAST-MODIFIED:20220429T124957Z
SUMMARY:XXV ANPEC SUL
DTSTART:20220915T030000Z
DTEND:20220916T200000Z
LOCATION:PUC/RS
URL:http://www.anpec.org.br/novosite/br/xxv-encontro-de-economia-da-regiao-sul
CLASS:PUBLIC
END:VEVENT
END:VCALENDAR
