BEGIN:VCALENDAR
PRODID:-//AT Content Types//AT Event//EN
VERSION:1.0
BEGIN:VEVENT
DTSTART:20141110T213000Z
DTEND:20141110T233000Z
DCREATED:20141013T153018Z
UID:ATEvent-02162b2869ee4183aa84b7094e50e67b
SEQUENCE:0
LAST-MODIFIED:20141110T150054Z
SUMMARY:3a. Audiência Pública do Plano Diretor Participativo da UEM
LOCATION:Auditório Ney Marques
PRIORITY:3
TRANSP:0
END:VEVENT
END:VCALENDAR
