BEGIN:VCALENDAR
PRODID:-//AT Content Types//AT Event//EN
VERSION:1.0
BEGIN:VEVENT
DTSTART:20131204T190000Z
DTEND:20131204T201500Z
DCREATED:20131127T031747Z
UID:ATEvent-e00550af67144392bcbbd5ff2e94aca8
SEQUENCE:0
LAST-MODIFIED:20131127T031807Z
SUMMARY:5a. REUNIÃO/LANÇAMENTO DO PROCESSO PARTICIPATIVO DO PD DA UEM
DESCRIPTION:A Comissão de Elaboração – instituída por meio da Po
 rtaria nº 433/2012- realiza o lançamento do processo participativo d
 o Plano Diretor (PD) do Campus-Sede da UEM (Universidade Estadual de M
 aringá). A apresentação faz parte do cronograma de ações do grupo
 \, que inicia sua segunda etapa de atividades na ocasião das reuniõe
 s dos Centros Interdisciplinares (CI’s)
LOCATION:CTC –  Bloco C67 – auditório menor
PRIORITY:3
TRANSP:0
END:VEVENT
END:VCALENDAR
