BEGIN:VCALENDAR
PRODID:-//AT Content Types//AT Event//EN
VERSION:1.0
BEGIN:VEVENT
DTSTART:20131206T190000Z
DTEND:20131206T200000Z
DCREATED:20131127T032207Z
UID:ATEvent-097862732afc4cccbd423bddde6a9d9f
SEQUENCE:0
LAST-MODIFIED:20131205T134123Z
SUMMARY:6a.REUNIÃO/LANÇAMENTO DO PROCESSO PARTICIPATIVO DO PLANO DIRETOR DA UEM
DESCRIPTION:A Comissão de Elaboração – instituída por meio da Po
 rtaria nº 433/2012- realiza o lançamento do processo participativo d
 o Plano Diretor (PD) do câmpus sede da UEM (Universidade Estadual de 
 Maringá). A apresentação faz parte do cronograma de ações do grup
 o\, que inicia sua segunda etapa de atividades na ocasião das reuniõ
 es dos Centros Interdisciplinares (CI’s).
LOCATION:CSA – Bloco C23 – sala 06
PRIORITY:3
TRANSP:0
END:VEVENT
END:VCALENDAR
