BEGIN:VCALENDAR
PRODID:-//AT Content Types//AT Event//EN
VERSION:1.0
BEGIN:VEVENT
DTSTART:20131210T143000Z
DTEND:20131210T153000Z
DCREATED:20131205T121036Z
UID:ATEvent-f7130a556bc44a7387880ec0a22db9bf
SEQUENCE:0
LAST-MODIFIED:20131205T121129Z
SUMMARY:7a. REUNIÃO/LANÇAMENTO DO PROCESSO PARTICIPATIVO DO PLANO DIRETOR DA UEM
LOCATION:CCB - BLOCO H-79 - SALA 04
PRIORITY:3
TRANSP:0
END:VEVENT
END:VCALENDAR
