BEGIN:VCALENDAR
PRODID:-//AT Content Types//AT Event//EN
VERSION:1.0
BEGIN:VEVENT
DTSTART:20131127T150000Z
DTEND:20131127T160000Z
DCREATED:20131127T020256Z
UID:ATEvent-ec199f8df68f491589d528b961746754
SEQUENCE:0
LAST-MODIFIED:20131127T021215Z
SUMMARY:2a. REUNIÃO/LANÇAMENTO DO PROCESSO PARTICIPATIVO DO PD DA UEM
DESCRIPTION:A Comissão de Elaboração – instituída por meio da Po
 rtaria nº 433/2012- realiza o lançamento do processo participativo d
 o Plano Diretor (PD) do Campus-Sede da UEM (Universidade Estadual de M
 aringá)\, durante as reuniões dos Centros Interdisciplinares (CI’s
 ).
LOCATION:CCA - Bloco J-45 - Anfiteatro 2
PRIORITY:3
TRANSP:0
END:VEVENT
END:VCALENDAR
