BEGIN:VCALENDAR
PRODID:-//AT Content Types//AT Event//EN
VERSION:2.0
METHOD:PUBLISH
BEGIN:VEVENT
DTSTAMP:20260425T111025Z
CREATED:20131127T015017Z
UID:ATEvent-e0e9592f5dd646fdb491fbd833ae25c9
LAST-MODIFIED:20131205T134337Z
SUMMARY:3a. REUNIÃO/LANÇAMENTO DO PROCESSO PARTICIPATIVO DO PLANO DIRETOR DO CAMPUS-SEDE DA UEM
DTSTART:20131129T190000Z
DTEND:20131129T200000Z
DESCRIPTION:A Comissão de Elaboração – instituída por meio da Po
 rtaria nº 433/2012- realiza o lançamento do processo participativo d
 o Plano Diretor (PD) do câmpus sede da UEM (Universidade Estadual de 
 Maringá). A apresentação faz parte do cronograma de ações do grup
 o\, que inicia sua segunda etapa de atividades na ocasião das reuniõ
 es nos Centros Interdisciplinares (CI’s).
LOCATION:CCE - Bloco G56 – sala 21
CLASS:PUBLIC
END:VEVENT
END:VCALENDAR
