BEGIN:VCALENDAR
PRODID:-//AT Content Types//AT Event//EN
VERSION:1.0
BEGIN:VEVENT
DTSTART:20140401T040000Z
DTEND:20140601T035500Z
DCREATED:20140407T014305Z
UID:ATEvent-f563948e4e744dcf98a0ad3cf6627616
SEQUENCE:0
LAST-MODIFIED:20140516T174201Z
SUMMARY:PDP da UEM estende data de participação on-line
DESCRIPTION:A Comissão de Elaboração do Plano Diretor Participativo
  (PDP) do Câmpus Sede da Universidade Estadual de Maringá (UEM) mant
 ém até o final desse mês (maio) o espaço on-line para registro de 
 problemas\, propostas e potencialidades da Instituição. O objetivo 
  ampliar o acesso da comunidade interna e externa ao processo de defi
 nição sobre “Qual câmpus nós queremos?”.\nA ferramenta está d
 isponibilizada no endereço eletrônico http://www.sites.uem.br/planod
 iretor_uem/interatividade\, com opção de preencher dois formulários
 . O primeiro está relacionado a questão: “Qual Câmpus Sede da UEM
  nós queremos?”. O espaço está dividido em Realidade Existente\, 
 para o participante relatar os problemas e conflitos\, e a Realidade D
 esejada\, onde devem constar os anseios\, propostas e potencialidades 
 associadas ao relato anterior. O segundo formulário abre oportunidade
  para os comentários\, com intuito de disponibilizar ao interessado u
 ma área para solicitações\, críticas e sugestões. \nA princípio\
 , os eixos estruturantes (políticas) delineados nas reuniões de sist
 ematização - realizadas pela Comissão de Elaboração - culminaram 
 nos seguintes tópicos: Infraestrutura\; Cidadania\; Sustentabilidade\
 ; Segurança\; Mobilidade\; Arte\, esporte\, cultura e lazer.\n\nSERVI
 ÇO:\nOs interessados podem ter acesso aos formulários on-line no htt
 p://www.sites.uem.br/planodiretor_uem/interatividade até o dia 31 de 
 maio. A data encerra\, em definitivo\, a sistematização dos dados qu
 e devem estruturar as duas audiências públicas a serem realizadas no
  mês de maio e junho.
LOCATION:site planodiretor_uem/interatividade
PRIORITY:3
TRANSP:0
END:VEVENT
END:VCALENDAR
