BEGIN:VCALENDAR
PRODID:-//AT Content Types//AT Event//EN
VERSION:1.0
BEGIN:VEVENT
DTSTART:20140227T183000Z
DTEND:20140227T223000Z
DCREATED:20140224T171256Z
UID:ATEvent-69fb7330037548dc8cb1dfc4ee89b18a
SEQUENCE:0
LAST-MODIFIED:20140224T173617Z
SUMMARY:Primeira oficina do Plano Diretor
DESCRIPTION:Primeira oficina do Plano Diretor. O evento será no anfit
 eatro do Dacese. Participam da atividade os integrantes da Comissão d
 e Elaboração e membros da Comissão de Mobilização e Acompanhament
 o\, devidamente designados pelas Secretarias. O tema é “Qual é o t
 erritório da UEM?”.
LOCATION:auditório do Dacese
PRIORITY:3
TRANSP:0
END:VEVENT
END:VCALENDAR
