BEGIN:VCALENDAR
PRODID:-//AT Content Types//AT Event//EN
VERSION:2.0
METHOD:PUBLISH
BEGIN:VEVENT
DTSTAMP:20260425T145626Z
CREATED:20140704T150005Z
UID:ATEvent-5bb7311ebd49485fb6a1cc72249d3b4a
LAST-MODIFIED:20140704T150136Z
SUMMARY:Primeira Oficina  - Os problemas viários existentes dentro do Câmpus Sede e a relação deste espaço com o trânsito de Maringá
DTSTART:20140724T180000Z
DTEND:20140724T210000Z
LOCATION:Auditório do Dacese
CLASS:PUBLIC
END:VEVENT
END:VCALENDAR
