BEGIN:VCALENDAR
PRODID:-//AT Content Types//AT Event//EN
VERSION:2.0
METHOD:PUBLISH
BEGIN:VEVENT
DTSTAMP:20260425T110607Z
CREATED:20140704T151534Z
UID:ATEvent-b3ff05a5f52a4c4d8c6e96b46a52a8ff
LAST-MODIFIED:20140704T151539Z
SUMMARY:Segunda Audiência Pública do Plano Diretor da UEM
DTSTART:20140806T040000Z
DTEND:20140806T040000Z
CLASS:PUBLIC
END:VEVENT
END:VCALENDAR
