BEGIN:VCALENDAR
PRODID:-//AT Content Types//AT Event//EN
VERSION:1.0
BEGIN:VEVENT
DTSTART:20140731T180000Z
DTEND:20140731T210000Z
DCREATED:20140704T150953Z
UID:ATEvent-12fc9aa010a74735a44aa3e4884c426e
SEQUENCE:0
LAST-MODIFIED:20140704T150959Z
SUMMARY:Segunda Oficina - estabelecer os pontos que vão ser debatidos e votados na audiência pública
LOCATION:Auditório do Dacese
PRIORITY:3
TRANSP:0
END:VEVENT
END:VCALENDAR
