BEGIN:VCALENDAR
PRODID:-//AT Content Types//AT Event//EN
VERSION:1.0
BEGIN:VEVENT
DTSTART:20140226T130000Z
DTEND:20140226T140500Z
DCREATED:20140224T170727Z
UID:ATEvent-a8f10cc6b34648459ba0b2741394b163
SEQUENCE:0
LAST-MODIFIED:20140224T170737Z
SUMMARY:Sinteemar recebe comissão do PD
DESCRIPTION:Apresentação do processo participativo do Plano Diretor 
 do Câmpus Sede da UEM para os funcionários da universidade.
LOCATION:auditório do Sinteemar
PRIORITY:3
TRANSP:0
END:VEVENT
END:VCALENDAR
