BEGIN:VCALENDAR
PRODID:-//AT Content Types//AT Event//EN
VERSION:2.0
METHOD:PUBLISH
BEGIN:VEVENT
DTSTAMP:20260425T180555Z
CREATED:20140224T174011Z
UID:ATEvent-e4d4734110404bc28a2e5d45130a15b4
LAST-MODIFIED:20140311T143027Z
SUMMARY:Segunda oficina do Plano Diretor
DTSTART:20140313T173000Z
DTEND:20140313T213000Z
LOCATION:Anfiteatro do Dacese
CLASS:PUBLIC
END:VEVENT
END:VCALENDAR
