BEGIN:VCALENDAR
PRODID:-//AT Content Types//AT Event//EN
VERSION:2.0
METHOD:PUBLISH
BEGIN:VEVENT
DTSTAMP:20260423T115835Z
CREATED:20190923T171830Z
UID:ATEvent-7ce8eed6bb194df3ad73bcef441a8f71
LAST-MODIFIED:20190924T174232Z
SUMMARY:Exame de Qualificação de Dissertação de Mestrado. Rodrigo Antoniassi Cardim\, autor.
DTSTART:20191008T180000Z
DTEND:20191008T200000Z
LOCATION:Sala 7\, Bloco Administrativo\,  IFPR
CONTACT:Isaac Cirqueira Lopes\, 44 33616208\, isaac.lopes@ifpr.edu.br
CLASS:PUBLIC
END:VEVENT
END:VCALENDAR
