BEGIN:VCALENDAR
PRODID:-//AT Content Types//AT Event//EN
VERSION:1.0
BEGIN:VEVENT
DTSTART:20191104T180000Z
DTEND:20191104T200000Z
DCREATED:20191011T123735Z
UID:ATEvent-f4479bc5c7c44cfa93b73dbb99c6c88e
SEQUENCE:0
LAST-MODIFIED:20191029T152301Z
SUMMARY:Exame de Qualificação de Mestrado. Cristiano Herculano da Silva\, autor.
LOCATION:Sala 7\, Bloco Administrativo\, IFPR
PRIORITY:3
TRANSP:0
END:VEVENT
END:VCALENDAR
