BEGIN:VCALENDAR
PRODID:-//AT Content Types//AT Event//EN
VERSION:2.0
METHOD:PUBLISH
BEGIN:VEVENT
DTSTAMP:20260423T115835Z
CREATED:20191023T114422Z
UID:ATEvent-e2a1d0de16834dbab371e0dba98d9975
LAST-MODIFIED:20191023T120728Z
SUMMARY:Exame de Qualificação de Dissertação de Mestrado. Isabela de Matos Massambani\, autora.
DTSTART:20191101T160000Z
DTEND:20191101T190000Z
LOCATION:Sala 1\, Bloco Didático\,  IFPR
CONTACT:Isaac Cirqueira Lopes\, 44 33616208\, isaac.lopes@ifpr.edu.br
CLASS:PUBLIC
END:VEVENT
END:VCALENDAR
