BEGIN:VCALENDAR
PRODID:-//AT Content Types//AT Event//EN
VERSION:2.0
METHOD:PUBLISH
BEGIN:VEVENT
DTSTAMP:20260423T115835Z
CREATED:20191023T172102Z
UID:ATEvent-90b3e6cacacb4e15a3ce0f2b839dbe36
LAST-MODIFIED:20191023T173338Z
SUMMARY:Exame de Qualificação de Dissertação de Mestrado. Carlos Henrique Furtado\, autor.
DTSTART:20191206T180000Z
DTEND:20191206T200000Z
LOCATION:Sala 7\, Bloco Administrativo\,  IFPR
CONTACT:Isaac Cirqueira Lopes\, 44 33616208\, isaac.lopes@ifpr.edu.br
CLASS:PUBLIC
END:VEVENT
END:VCALENDAR
