BEGIN:VCALENDAR
PRODID:-//AT Content Types//AT Event//EN
VERSION:1.0
BEGIN:VEVENT
DTSTART:20190919T180000Z
DTEND:20190919T210000Z
DCREATED:20190918T121553Z
UID:ATEvent-abeaf33cedf04657aa1b33d3f2532919
SEQUENCE:0
LAST-MODIFIED:20190918T122012Z
SUMMARY:Exame de Qualificação de Dissertação de Mestrado. Helton Jaques Albiero\, autor.
LOCATION:Sala 7\, Bloco Administrativo\,  IFPR
PRIORITY:3
TRANSP:0
END:VEVENT
END:VCALENDAR
