BEGIN:VCALENDAR
PRODID:-//AT Content Types//AT Event//EN
VERSION:1.0
BEGIN:VEVENT
DTSTART:20190919T120000Z
DTEND:20190919T150000Z
DCREATED:20190918T121209Z
UID:ATEvent-263decdb487b4d0b9f57548f09c09dcd
SEQUENCE:0
LAST-MODIFIED:20190918T122032Z
SUMMARY:Defesa Pública de Dissertação de Mestrado. Charlini Balastreri Dorta de Oliveira\, autora.
LOCATION:Sala 7\, Bloco Administrativo\,  IFPR
PRIORITY:3
TRANSP:0
END:VEVENT
END:VCALENDAR
