BEGIN:VCALENDAR
PRODID:-//AT Content Types//AT Event//EN
VERSION:2.0
METHOD:PUBLISH
BEGIN:VEVENT
DTSTAMP:20260423T115715Z
CREATED:20190813T122608Z
UID:ATEvent-98ee2c317be64c908f5a4102e48ac2ed
LAST-MODIFIED:20191002T151759Z
SUMMARY:I Simpósio Interdisciplinar em Sustentabilidade – SISU 2019
DTSTART:20191008T220000Z
DTEND:20191010T220000Z
LOCATION:IFPR – Campus Umuarama / Câmara de Vereadores de Umuarama
CONTACT:Programa de Pós-Graduação em Sustentabilidade - Mestrado Acadêmico Associado entre IFPR/UEM\, 44 - 36219334\, sec-psu@uem.br
CLASS:PUBLIC
END:VEVENT
END:VCALENDAR
